BEGIN:VCALENDAR
VERSION:2.0
PRODID:-//https://volleyball.tut.md///NONSGML kigkonsult.se iCalcreator 2.10.15//
METHOD:PUBLISH
BEGIN:VEVENT
UID:20260421T103318BST-8995bBO9IT@https://volleyball.tut.md/
DTSTAMP:20260421T093318Z
DESCRIPTION:Максимальное количество человек - 18.\nКонтактный номер - 0682 
 92 630\n \n \n  https://volleyball.tut.md/index.php/component/rseventspro/
 event/289-igra-v-ponedelnik-nizhnyaya-botanika
DTSTART:20170918T160000Z
DTEND:20170918T180000Z
LOCATION:Зал на Нижней Ботанике (Strada Pictor Ion Jumati\, Chișinău\, Молд
 ова)
SUMMARY:Игра в понедельник - Нижняя Ботаника
URL:https://volleyball.tut.md/index.php/component/rseventspro/event/289-igr
 a-v-ponedelnik-nizhnyaya-botanika
END:VEVENT
END:VCALENDAR
